BEGIN:VCALENDAR
VERSION:2.0
METHOD:PUBLISH
BEGIN:VEVENT
ORGANIZER:MAILTO:
DTSTART:20200916T150000Z
DTEND:20200917T180000Z
LOCATION:Virtual/Live Class
SUMMARY:Introducción a la Modelación de Alcantarillados Pluviales usando StormCAD, CivilStorm o SewerGEMS CONNECT Edition (Update 3) - Spanish
DESCRIPTION;ENCODING=QUOTED-PRINTABLE:Haga click aqu&iacute; para registrarse: https://learn.bentley.com/app/Public/GetLiveCourseOfferings?CourseId=131486&amp;lpId=115812 \n \n \n \n Descripci&oacute;n: \n Introducci&oacute;n a la Modelaci&oacute;n de Alcantarillados Pluviales&rsquo; es una clase en l&iacute;nea de 5 horas guiada en vivo por un instructor. El curso incluye una breve presentaci&oacute;n, un taller pr&aacute;ctico y manual de pasos para autoaprendizaje posterior a la clase. Antes de tomar esta clase, debe tener OpenFlows StormCAD, CivilStorm o SewerGEMS Connect Ed. (Update 3 o superior) instalado y operativo en su equipo propio. El enfoque de la clase es pr&aacute;ctico, as&iacute; que usar&aacute; su computadora para seguir al instructor, analizando un sistema sencillo de drenaje pluvial urbano (se insta a los participantes a usar monitores duales o dos dispositivos para esta pr&aacute;ctica). El material de curso en l&iacute;nea incluye un PDF con instrucciones pr&aacute;cticas del taller, descripciones y enlaces para los m&oacute;dulos de aprendizaje seg&uacute;n demanda en el portal &lsquo;LEARN Server&rsquo; para un estudio posterior. \n \n \n Habilidades ense&ntilde;ada \n \n \n Obtener experiencia a trav&eacute;s de un taller pr&aacute;ctico para el uso de herramientas de an&aacute;lisis esenciales de modelaci&oacute;n de redes pluviales comunes a StormCAD, CivilStorm y SewerGEMS. \n Conocer las capacidades y diferencias de estos tres productos, con una comprensi&oacute;n de funcionalidades y tipos de modelos num&eacute;ricos disponibles. \n Evaluar las herramientas de c&aacute;lculo y an&aacute;lisis complementarios para el an&aacute;lisis y dise&ntilde;o de redes de drenaje urbano. \n Conocer de los recursos ofrecidos por el software y Bentley Systems para obtener contenido detallado relacionado con las herramientas de simulaci&oacute;n ofrecidas. \n \n \n \n \n Prerequisitos Curso: \n Conocimientos b&aacute;sicos sobre teor&iacute;a hidr&aacute;ulica de flujo a gravedad y modelaci&oacute;n computacional hidr&aacute;ulica de redes de alcantarillado pluvial. \n \n \n Idioma del Material: \n Spanish \n \n \n Acreditaciones: \n Bentley Institute
X-ALT-DESC;FMTTYPE=text/html:<html><body><p><span style="font-size:inherit;">Haga click aqu&iacute; para registrarse:&nbsp;<a href="https://learn.bentley.com/app/Public/GetLiveCourseOfferings?CourseId=131486&amp;lpId=115812">https://learn.bentley.com/app/Public/GetLiveCourseOfferings?CourseId=131486&amp;lpId=115812</a></span></p><table class="sum-table" border="0" cellpadding="0" cellspacing="0" width="100%"><tbody><tr valign="top"><td class="row-head2" align="right" valign="top" width="19%"><span style="font-size:inherit;">Descripci&oacute;n:</span></td><td class="data fistrow" valign="top"><span style="font-size:inherit;">Introducci&oacute;n a la Modelaci&oacute;n de Alcantarillados Pluviales&rsquo; es una clase en l&iacute;nea de 5 horas guiada en vivo por un instructor. El curso incluye una breve presentaci&oacute;n, un taller pr&aacute;ctico y manual de pasos para autoaprendizaje posterior a la clase. Antes de tomar esta clase, debe tener OpenFlows StormCAD, CivilStorm o SewerGEMS Connect Ed. (Update 3 o superior) instalado y operativo en su equipo propio. El enfoque de la clase es pr&aacute;ctico, as&iacute; que usar&aacute; su computadora para seguir al instructor, analizando un sistema sencillo de drenaje pluvial urbano (se insta a los participantes a usar monitores duales o dos dispositivos para esta pr&aacute;ctica). El material de curso en l&iacute;nea incluye un PDF con instrucciones pr&aacute;cticas del taller, descripciones y enlaces para los m&oacute;dulos de aprendizaje seg&uacute;n demanda en el portal &lsquo;LEARN Server&rsquo; para un estudio posterior.</span></td></tr><tr valign="top"><td class="row-head2" align="right" valign="top"><span style="font-size:inherit;">Habilidades ense&ntilde;ada</span></td><td class="data"><ul><li><span style="font-size:inherit;">Obtener experiencia a trav&eacute;s de un taller pr&aacute;ctico para el uso de herramientas de an&aacute;lisis esenciales de modelaci&oacute;n de redes pluviales comunes a StormCAD, CivilStorm y SewerGEMS.</span></li><li><span style="font-size:inherit;">Conocer las capacidades y diferencias de estos tres productos, con una comprensi&oacute;n de funcionalidades y tipos de modelos num&eacute;ricos disponibles.</span></li><li><span style="font-size:inherit;">Evaluar las herramientas de c&aacute;lculo y an&aacute;lisis complementarios para el an&aacute;lisis y dise&ntilde;o de redes de drenaje urbano.</span></li><li><span style="font-size:inherit;">Conocer de los recursos ofrecidos por el software y Bentley Systems para obtener contenido detallado relacionado con las herramientas de simulaci&oacute;n ofrecidas.</span></li></ul></td></tr><tr valign="top"><td class="row-head2" align="right" width="19%"><span style="font-size:inherit;">Prerequisitos Curso:</span></td><td class="data"><span style="font-size:inherit;">Conocimientos b&aacute;sicos sobre teor&iacute;a hidr&aacute;ulica de flujo a gravedad y modelaci&oacute;n computacional hidr&aacute;ulica de redes de alcantarillado pluvial.</span></td></tr><tr valign="top"><td class="row-head2" align="right" width="19%"><span style="font-size:inherit;">Idioma del Material:</span></td><td class="data"><span style="font-size:inherit;">Spanish</span></td></tr><tr valign="top"><td class="row-head2" align="right" width="19%"><span style="font-size:inherit;">Acreditaciones:</span></td><td class="data lastrow"><span style="font-size:inherit;">Bentley Institute</span></td></tr></tbody></table></body></html>
CLASS:PUBLIC
END:VEVENT
END:VCALENDAR