BEGIN:VCALENDAR
VERSION:2.0
METHOD:PUBLISH
BEGIN:VEVENT
ORGANIZER:MAILTO:
DTSTART:20220329T150000Z
DTEND:20220329T160000Z
LOCATION:Online
SUMMARY:Bentley Webinar: Demystifying Water Infrastructure Operational Digital Twins
DESCRIPTION;ENCODING=QUOTED-PRINTABLE:Title: Bentley Webinar: Demystifying Water Infrastructure Operational Digital Twins \n Date: Tuesday, March 29, 2022 \n Time: 10:00 AM Central Daylight Time \n Duration: 1 hour \n Link to Register: https://event.on24.com/wcc/r/3711112/7D4DB108C90EAB08DA05646545822D3C \n Water infrastructure operational digital twins unify disparate data sources from digital systems across the utility enterprise, create actionable intelligence, empower staff to work more efficiently and collaboratively, help safeguard the environment, and most importantly, improve the end customer&rsquo;s level of service. \n This webinar will help your water utility understand the recommended best practices to start your digital twin journey and the uniqueness of the OpenFlows WaterSight scalable and secure digital management platform. \n Key questions and takeaways from this webinar include: \n \n What is a &ldquo;unified digital twin&rdquo; water management platform for utilities? \n Why should I elect to use a technology vendor-managed digital twin? \n What are the benefits of using a secure and scalable cloud-provisioned connected data environment? \n How do I pilot test a vendor-managed &ldquo;unified digital twin&rdquo; water management platform quickly and easily? \n What are some typical pre-configured and customizable use cases provided by OpenFlows WaterSight? \n How your utility or consultancy can leverage Bentley&rsquo;s digital integration team service instruments to start your digital twin journey
X-ALT-DESC;FMTTYPE=text/html:<html><body><p><strong>Title:</strong><span>&nbsp;</span><span>Bentley Webinar: Demystifying Water Infrastructure Operational Digital Twins</span></p><p><strong>Date:</strong><span>&nbsp;</span><span>Tuesday, March 29, 2022</span></p><p><strong>Time:</strong><span>&nbsp;</span><span>10:00 AM <span style="background-color:#ffff00;">Central Daylight Time</span></span></p><p><strong>Duration:</strong><span>&nbsp;</span><span>1 hour</span></p><p><span style="color:#ff0000;font-size:150%;">Link to Register:</span>&nbsp;<a href="https://event.on24.com/wcc/r/3711112/7D4DB108C90EAB08DA05646545822D3C">https://event.on24.com/wcc/r/3711112/7D4DB108C90EAB08DA05646545822D3C</a></p><p>Water infrastructure operational digital twins unify disparate data sources from digital systems across the utility enterprise, create actionable intelligence, empower staff to work more efficiently and collaboratively, help safeguard the environment, and most importantly, improve the end customer&rsquo;s level of service. &nbsp;</p><p>This webinar will help your water utility understand the recommended best practices to start your digital twin journey and the uniqueness of the OpenFlows WaterSight scalable and secure digital management platform.</p><p>Key questions and takeaways from this webinar include:</p><ul><li>What is a &ldquo;unified digital twin&rdquo; water management platform for utilities?&nbsp;</li><li>Why should I elect to use a technology vendor-managed digital twin?</li><li>What are the benefits of using a secure and scalable cloud-provisioned connected data environment?</li><li>How do I pilot test a vendor-managed &ldquo;unified digital twin&rdquo; water management platform quickly and easily?&nbsp;</li><li>What are some typical pre-configured and customizable use cases provided by OpenFlows WaterSight?&nbsp;</li><li>How your utility or consultancy can leverage Bentley&rsquo;s digital integration team service instruments to start your digital twin journey</li></ul></body></html>
CLASS:PUBLIC
END:VEVENT
END:VCALENDAR