BEGIN:VCALENDAR
VERSION:2.0
METHOD:PUBLISH
BEGIN:VEVENT
ORGANIZER:MAILTO:
DTSTART:20230830T160000Z
DTEND:20230830T170000Z
LOCATION:Virtual
SUMMARY:Coffee Corner: How to Calibrate a Water Distribution Hydraulic Model
DESCRIPTION;ENCODING=QUOTED-PRINTABLE:Want to determine how your model actually reflects your distribution system, and improve that agreement? That&rsquo;s what model calibration is all about-- finding where there are discrepancies between the model and the real world, determine WHY those discrepancies exist and correcting them. You could to this through random trial-and-error process, but in this Coffee Corner presentation, we&rsquo;ll help you avoid some of the pitfalls to make your life easier. \n Please sign up via the link.
X-ALT-DESC;FMTTYPE=text/html:<html><body><p>Want to determine how your model actually reflects your distribution system, and improve that agreement? That&rsquo;s what model calibration is all about-- finding where there are discrepancies between the model and the real world, determine WHY those discrepancies exist and correcting them. You could to this through random trial-and-error process, but in this Coffee Corner presentation, we&rsquo;ll help you avoid some of the pitfalls to make your life easier.</p><p>Please sign up via the link.</p></body></html>
CLASS:PUBLIC
END:VEVENT
END:VCALENDAR