BEGIN:VCALENDAR
VERSION:2.0
METHOD:PUBLISH
BEGIN:VEVENT
ORGANIZER:MAILTO:
DTSTART:20201113T150000Z
DTEND:20201113T160000Z
LOCATION:Online
SUMMARY:YII ACCELERATE: Start creating digital twins in MicroStation
DESCRIPTION;ENCODING=QUOTED-PRINTABLE:YII ACCELERATE: Start creating digital twins in MicroStation \n \n No matter the sophistication of your design workflows, MicroStation provides the ability to build and collaborate on digital twins. Learn about how MicroStation lowers the barriers to getting started creating digital twins to improve collaboration and integration across disciplines on projects.​ \n * Certificates can be accessed from LEARNserver or Transcripts . Note: a Bentley account needs to be created before attending the event to receive a Certificate of Completion. If you do not have an account, please create your Bentley account with us here before you attend a Bentley Webinar event to get your Certificate of Completion. \n **The webcast will be streamed through your computer, so there is no dial-in number. Please make sure your computer speakers (or headset) are turned on, and the volume is set to an audible level so you can hear the presenters. Help
X-ALT-DESC;FMTTYPE=text/html:<html><body><h1 class="section-title" style="color:#333333;font-family:Segoe UI;font-size:24px;font-style:normal;font-weight:bold;letter-spacing:normal;margin:40px 0px 32px 0px;text-align:left;text-decoration:none;text-indent:0px;text-transform:none;white-space:normal;">YII ACCELERATE: Start creating digital twins in MicroStation</h1><div class="content-summary" style="color:#000000;font-family:Helvetica,Arial,sans-serif;font-size:16px;font-style:normal;font-weight:400;letter-spacing:normal;text-align:left;text-decoration:none;text-indent:0px;text-transform:none;white-space:normal;"><p>No matter the sophistication of your design workflows, MicroStation provides the ability to build and collaborate on digital twins. Learn about how MicroStation lowers the barriers to getting started creating digital twins to improve collaboration and integration across disciplines on projects.​</p><p><span style="font-size:12px;">*<span style="line-height:107%;"><span style="font-family:Calibri,sans-serif;"><i>Certificates can be accessed from <a style="background-color:transparent;color:#0563c1;text-decoration:underline;" href="https://learn.bentley.com/app/Public">LEARNserver</a> or <a style="background-color:transparent;color:#0563c1;text-decoration:underline;" href="https://learn.bentley.com/transcript/">Transcripts</a>. Note:&nbsp; a Bentley&nbsp;account needs to be created before attending the event to receive a Certificate of Completion. If you do not have an account, please create your Bentley account with us&nbsp;<a style="background-color:transparent;color:#0563c1;text-decoration:underline;" title="https://ims.bentley.com/" href="https://ims.bentley.com/" rel="noopener noreferrer" target="_blank">here</a> before you attend a Bentley Webinar event to get your Certificate of Completion.&nbsp; </i></span></span></span></p><p><span style="font-size:12px;"><em>**The webcast will be streamed through your computer, so there is no dial-in number.&nbsp; Please make sure your computer speakers (or headset) are turned on, and the volume is set to an audible level so you can hear the presenters.&nbsp;&nbsp;<span style="color:#62bb46;"><u><strong style="font-weight:bolder;"><a style="background-color:transparent;" href="https://gateway.on24.com/view/help/ehelp.html?text_language_id=en&amp;fh=true&amp;ngwebcast=true" rel="noopener noreferrer" target="_blank">Help</a></strong></u></span></em></span></p></div></body></html>
CLASS:PUBLIC
END:VEVENT
END:VCALENDAR