BEGIN:VCALENDAR
VERSION:2.0
METHOD:PUBLISH
BEGIN:VEVENT
ORGANIZER:MAILTO:
DTSTART:20201124T160000Z
DTEND:20201124T170000Z
LOCATION:Online
SUMMARY:SIG: MicroStation – All About Raster, Part 1
DESCRIPTION;ENCODING=QUOTED-PRINTABLE:SIG Workshop: MicroStation &ndash; All About Raster, Part 1 \n \n This interactive MicroStation Special Interest Group virtual workshop is the first in a two-part series that focuses on the Raster Manager and wide variety of raster types supported in MicroStation. \n \n Learn how to integrate, control, and manipulate raster images \n See how to attach various raster file formats within a DGN file and observe how Geographic Coordinate Systems come into play \n Become familiar with tools used to display raster images and the three &quot;planes&quot; available for raster display once an image is attached \n \n This one-hour session includes a technical presentation, provides time to share questions, and is open to all Bentley users &ndash; invite your colleagues! One learning unit is applied to each attendee&rsquo;s Bentley Transcript for self-reporting. \n **The webcast will be streamed through your computer, so there is no dial-in number. Please make sure your computer speakers (or headset) are turned on and the volume is set to an audible level so you can hear the presenters. Help
X-ALT-DESC;FMTTYPE=text/html:<html><body><h1 class="section-title" style="color:#333333;font-family:Segoe UI;font-size:24px;font-style:normal;font-weight:bold;letter-spacing:normal;margin:40px 0px 32px 0px;text-align:left;text-decoration:none;text-indent:0px;text-transform:none;white-space:normal;">SIG Workshop: MicroStation &ndash; All About Raster, Part 1</h1><div class="content-summary" style="color:#000000;font-family:Helvetica,Arial,sans-serif;font-size:16px;font-style:normal;font-weight:400;letter-spacing:normal;text-align:left;text-decoration:none;text-indent:0px;text-transform:none;white-space:normal;"><p>This interactive MicroStation Special Interest Group virtual workshop is the first in a two-part series that focuses on the Raster Manager and wide variety of raster types supported in MicroStation.</p><ul><li>Learn how to integrate, control, and manipulate raster images</li><li>See how to attach various raster file formats within a DGN file and observe how Geographic Coordinate Systems come into play&nbsp;</li><li>Become familiar with tools used to display raster images and the three &quot;planes&quot; available for raster display once an image is attached</li></ul><p>This one-hour session includes a technical presentation, provides time to share questions, and is open to all Bentley users &ndash; invite your colleagues! One learning unit is applied to each attendee&rsquo;s Bentley Transcript for self-reporting.&nbsp;</p><p><em>**The webcast will be streamed through your computer, so there is no dial-in number.&nbsp; Please make sure your computer speakers (or headset) are turned on and the volume is set to an audible level so you can hear the presenters.&nbsp;&nbsp;<span style="color:#62bb46;"><u><strong style="font-weight:bolder;"><a style="background-color:transparent;" href="https://gateway.on24.com/view/help/ehelp.html?text_language_id=en&amp;fh=true&amp;ngwebcast=true" rel="noopener noreferrer" target="_blank">Help</a></strong></u></span></em></p></div></body></html>
CLASS:PUBLIC
END:VEVENT
END:VCALENDAR