BEGIN:VCALENDAR
VERSION:2.0
METHOD:PUBLISH
BEGIN:VEVENT
ORGANIZER:MAILTO:
DTSTART:20171212T160000Z
DTEND:20171212T170000Z
LOCATION:Distance Learning (Virtual) - Register below
SUMMARY:SIG Workshop: Getting Help for MicroStation CONNECT Edition
DESCRIPTION;ENCODING=QUOTED-PRINTABLE:MicroStation CONNECT Edition Special Interest Group (SIG) virtual workshops occur monthly and are structured to keep you informed, engaged, and working optimally. This month&rsquo;s topic is Getting Help. \n To enable you to best leverage resources for MicroStation CONNECT Edition, the technology presentation and Q&amp;A will focus on: \n \n Using the Help system \n Online Help \n CONNECT Advisor \n Communities web site \n Blogs and other sources \n YouTube Channels \n \n Attendance is complimentary. \n Participants of this one-hour event can earn one Professional Development Hour (PDH) from Bentley Institute. To review your Bentley Transcript/Learning History, go to http://learn.bentley.com/app/Public . There, you can self-report your professional development efforts to the respective organization, licensing board, or professional association. Requirements may vary and acceptance of Bentley Institute PDHs is ultimately at the discretion of the those organizations. Bentley recommends that you confirm board or association terms and conditions. \n Register Now \n \n Visit Global Events page for additional information about planned Bentley events (webinars, seminars, industry events, learning)
X-ALT-DESC;FMTTYPE=text/html:<html><body><p>MicroStation CONNECT Edition Special Interest Group (SIG) virtual workshops occur monthly and are structured to keep you informed, engaged, and working optimally. This month&rsquo;s topic is <i>Getting Help.</i></p><p>To enable you to best leverage resources for MicroStation CONNECT Edition, the technology presentation and Q&amp;A will focus on:</p><ul><li>Using the Help system</li><li>Online Help</li><li>CONNECT Advisor</li><li>Communities web site</li><li>Blogs and other sources</li><li>YouTube Channels</li></ul><p>Attendance is complimentary.</p><h1><br /><span style="font-size:small;"><em>Participants of this one-hour event can earn one Professional Development Hour (PDH) from Bentley Institute. To review your Bentley Transcript/Learning History, go to <a href="http://learn.bentley.com/app/Public">http://learn.bentley.com/app/Public</a>. There, you can self-report your professional development efforts to the respective organization, licensing board, or professional association. Requirements may vary and acceptance of Bentley Institute PDHs is ultimately at the discretion of the those organizations. Bentley recommends that you confirm board or association terms and conditions.</em></span><br /><br /></h1><div id="RegisterButton"><span style="font-size:150%;"><a href="https://pages.info.bentley.com/Redirect.aspx?EQ=DrHhyN5FPf9MU1pfOWxAyNakAkrfSHkSPGUpNU0DFiiV1kJiSNsUcffb7FXD0CVAtCFslz7iI792XKpqggI3Dv7PPrV--a6uif8Fxl7UwL3HhtEimY2_j7S8IO4N0p_C3IFTYyY5lq3fsG1v68AHqqCGQf2QJO_jKBBAlXqnUb4-zzSeXTfM_rjQ8nlBmNZ7pX6VHPEYgfP1NYTPxwKpDbhfzv959ePXarUm9bL4y3hR61x7GHlP9tUf4tRTl_ZQYQcSOb93If0eIRhcUlnLCTo-acYAC6rrbcORkkTow9sOqc4mASsqlgduVhqqbiTTE1xw_soJ6zrHxNFmwoK2hG4uO0LvXCf9VohEIZs00">Register Now</a></span></div><div></div><div style="padding-left:150px;"><span style="background-color:#ffffff;font-size:inherit;">Visit <a href="https://pages.info.bentley.com/webinars/?WType=SIGs&amp;Product=MicroStation&amp;Lang=All"><span style="color:#4aa3df;">Global Events page</span></a>&nbsp;for additional information about planned Bentley events (webinars, seminars, industry events, learning)</span></div><div class="container" id="SocialIcons"><div class="pull-right"><div class="col-md-12"><div class="pull-right"></div></div></div></div></body></html>
CLASS:PUBLIC
END:VEVENT
END:VCALENDAR