BEGIN:VCALENDAR
VERSION:2.0
METHOD:PUBLISH
BEGIN:VEVENT
ORGANIZER:MAILTO:
DTSTART:20171213T000000Z
DTEND:20171213T010000Z
LOCATION:
SUMMARY:SIG Workshop: Getting Help for MicroStation CONNECT Edition
DESCRIPTION;ENCODING=QUOTED-PRINTABLE:MicroStation CONNECT Edition Special Interest Group (SIG) virtual workshops occur monthly and are structured to keep you informed, engaged, and working optimally. This month&rsquo;s topic is Getting Help . \n To enable you to best leverage resources for MicroStation CONNECT Edition, the technology presentation and Q&amp;A will focus on: \n \n Using the Help system \n Online Help \n CONNECT Advisor \n Communities web site \n Blogs and other sources \n YouTube Channels \n \n Attendance is complimentary. \n Participants of this one-hour event can earn one Professional Development Hour (PDH) from Bentley Institute. To review your Bentley Transcript/Learning History, go to http://learn.bentley.com/app/Public . There, you can self-report your professional development efforts to the respective organization, licensing board, or professional association. Requirements may vary and acceptance of Bentley Institute PDHs is ultimately at the discretion of the those organizations. Bentley recommends that you confirm board or association terms and conditions. \n Register Now \n \n \n \n Visit Global Events page for additional information about planned Bentley events (webinars, seminars, industry events, learning)
X-ALT-DESC;FMTTYPE=text/html:<html><body><p>MicroStation CONNECT Edition Special Interest Group (SIG) virtual workshops occur monthly and are structured to keep you informed, engaged, and working optimally. This month&rsquo;s topic is <span style="background-color:#ffffff;"><i>Getting Help</i>.</span></p><p>To enable you to best leverage resources for MicroStation CONNECT Edition, the technology presentation and Q&amp;A will focus on:</p><ul><li>Using the Help system</li><li>Online Help</li><li>CONNECT Advisor</li><li>Communities web site</li><li>Blogs and other sources</li><li>YouTube Channels</li></ul><p>Attendance is complimentary.</p><p><br /><span style="font-size:small;"><em>Participants of this one-hour event can earn one Professional Development Hour (PDH) from Bentley Institute. To review your Bentley Transcript/Learning History, go to <a href="http://learn.bentley.com/app/Public">http://learn.bentley.com/app/Public</a>. There, you can self-report your professional development efforts to the respective organization, licensing board, or professional association. Requirements may vary and acceptance of Bentley Institute PDHs is ultimately at the discretion of the those organizations. Bentley recommends that you confirm board or association terms and conditions.</em></span><br /><br /></p><div id="RegisterButton"><span style="background-color:#ffffff;font-size:150%;"><a style="background-color:#ffffff;" href="https://pages.info.bentley.com/Redirect.aspx?EQ=F0SSefy0LflTKK2Cs2rAwwWShZcsNJd_shdpXavrZ8YYvlA09VWpBglCAAGI5w3WbVeln_-Wn7TEOcNv5NCtP8ylGbtcd2e9i0uCvMy4q_DzAkaAT79Ey4xovgP95vxqMfxMhctrogy1soqxks_tIWWBCGeYV0Tt1hPKumt6dpjXPpbkalRRZq1Y1XmJber8aXXd3JWnZWzJ76s-HtmVFVCshZdOoCWOCZnYGZyGfh6s3B0imV942CpvuW8qrVuq2hOR5KhhsiL2eyQPqNI2S8OfVWNhmaMdkBy5LZfFHO_udcyBmLBDmYlQ6NWAguX1p_ezZtid0YemQNuhTaXMyCihh1N3L4qNsQbjhh0F0">Register Now</a></span></div><div><span style="background-color:#ffffff;font-size:150%;"></span></div><p></p><div><span style="background-color:#ffffff;font-size:150%;"></span></div><div style="padding-left:180px;"><span style="background-color:#ffffff;font-size:inherit;">Visit <a href="https://pages.info.bentley.com/webinars/?WType=SIGs&amp;Product=MicroStation&amp;Lang=All">Global Events page</a>&nbsp;for additional information about planned Bentley events (webinars, seminars, industry events, learning)</span></div></body></html>
CLASS:PUBLIC
END:VEVENT
END:VCALENDAR