BEGIN:VCALENDAR
VERSION:2.0
METHOD:PUBLISH
BEGIN:VEVENT
ORGANIZER:MAILTO:
DTSTART:20200528T150000Z
DTEND:20200528T160000Z
LOCATION:Online
SUMMARY:Session 4: Piping and Equipment Modeling
DESCRIPTION;ENCODING=QUOTED-PRINTABLE:Session 4 Piping and Equipment Modeling Thursday, May 28, 2020 | 11:00am EDT Presenter: Tony DeRosa, Senior Consultant \n \n This session will cover using OpenPlant Modeler to create equipment, piping, raceways, and check-in/out of PlantSight: \n \n Overview of OpenPlant Modeler \n Using 2D to 3D to place and tag equipment and pipelines \n Updating and interacting with PlantSight \n Dynamic views and orthographic drawing production \n Placing raceway systems and converting lines \n Importing equipment and cable lists \n \n Auto-routing cables to raceways \n Visualizing cables in 3D
X-ALT-DESC;FMTTYPE=text/html:<html><body><div class="container"><div class="inner-conteiner"><div class="content"><div class="animatedParent"><div class="promo-banner solid-color  container-fluid animated     box go" id="rowContainer"><div class="container"><div class="center-content"><div class="overlay-body"><table id="mainTbl" border="0" cellpadding="10" cellspacing="10"><tbody><tr><td class="borderRightTD" valign="top"><p><span style="font-size:150%;"><strong>Session 4</strong></span><br /><span style="font-size:150%;"><strong>Piping and Equipment Modeling</strong></span><br /><span style="font-size:150%;"><strong>Thursday, May 28, 2020 | 11:00am EDT</strong><em><br /> Presenter: Tony DeRosa, Senior Consultant</em></span></p><br /><p><span style="font-size:150%;">This session will cover using OpenPlant Modeler to create equipment, piping, raceways, and check-in/out of PlantSight:</span></p><ul><li><span style="font-size:150%;">Overview of OpenPlant Modeler</span></li><li><span style="font-size:150%;">Using 2D to 3D to place and tag equipment and pipelines</span></li><li><span style="font-size:150%;">Updating and interacting with PlantSight</span></li><li><span style="font-size:150%;">Dynamic views and orthographic drawing production</span></li><li><span style="font-size:150%;">Placing raceway systems and converting lines</span></li><li><span style="font-size:150%;">Importing equipment and cable lists</span><ul><li><span style="font-size:150%;">Auto-routing cables to raceways</span></li><li><span style="font-size:150%;">Visualizing cables in 3D</span></li></ul></li></ul></td></tr></tbody></table></div></div></div></div></div></div></div></div></body></html>
CLASS:PUBLIC
END:VEVENT
END:VCALENDAR