BEGIN:VCALENDAR
VERSION:2.0
METHOD:PUBLISH
BEGIN:VEVENT
ORGANIZER:MAILTO:
DTSTART:20220825T143000Z
DTEND:20220825T153000Z
LOCATION:https://event.on24.com/wcc/r/3864119/EB16C4B581B00F5EA793B32E03BE3C57
SUMMARY:Coffee Corner: Plant Design - OpenPlant/PlantSight - Workflows
DESCRIPTION;ENCODING=QUOTED-PRINTABLE:Title: Coffee Corner: Plant Design - OpenPlant/PlantSight - Workflows \n Date: Thursday, August 25, 2022 \n Time: 10:30 AM Eastern Daylight Time \n Presenter : Ed Krkoska, Senior Application Engineer &ndash; Plant, Bentley Systems, Inc. \n Register Now! \n Learn common workflows when using PlantSight with OpenPlant P&amp;ID and Modeler. \n \n Synchonizing data to / from OpenPlant P&amp;ID to PlantSight \n Referencing out OpenPlant modeling data \n Checking in / out OpenPlant modeling data to and from PlantSight \n Workflows for OpenPlant P&amp;ID to OpenPlant Modeler using PlantSight or standalone mode \n \n \n Bentley Plant Design Coffee Corners are open to all Bentley users, free of charge. One learning unit is applied to each participant&rsquo;s Bentley Transcript for self-reporting. To view prior sessions, watch the Recordings On-Demand .
X-ALT-DESC;FMTTYPE=text/html:<html><body><p><strong>Title:</strong><span>&nbsp;</span><span>Coffee Corner: Plant Design - OpenPlant/PlantSight - Workflows</span></p><p><strong>Date:</strong><span>&nbsp;</span><span>Thursday, August 25, 2022</span></p><p><strong>Time:</strong><span>&nbsp;</span><span>10:30 AM Eastern Daylight Time</span></p><p><span><strong>Presenter</strong>:&nbsp;<span class="sp-name">Ed Krkoska,&nbsp;</span><span class="sp-title">Senior Application Engineer &ndash; Plant,&nbsp;</span><span class="sp-company">Bentley Systems, Inc.</span></span></p><p><a href="https://event.on24.com/wcc/r/3864119/EB16C4B581B00F5EA793B32E03BE3C57">Register Now!</a></p><p>Learn common workflows when using PlantSight with OpenPlant P&amp;ID and Modeler.</p><ul><li>Synchonizing data to / from OpenPlant P&amp;ID to PlantSight</li><li>Referencing out OpenPlant modeling data</li><li>Checking in / out OpenPlant modeling data to and from PlantSight</li><li>Workflows for OpenPlant P&amp;ID to OpenPlant Modeler using PlantSight or standalone mode</li></ul><p><span>&nbsp;</span></p><p>Bentley Plant Design Coffee Corners are open to all Bentley users, free of charge. One learning unit is applied to each participant&rsquo;s<span>&nbsp;</span><a href="https://learn.bentley.com/transcript"><strong>Bentley Transcript</strong></a><span>&nbsp;</span>for self-reporting. To view prior sessions, watch the<span>&nbsp;</span><strong><a href="https://event.on24.com/wcc/r/2201847/8DAEACD2843343654C5D69EB05243BBC/843771?partnerref=EM_MULTIREG" rel="noopener noreferrer" target="_blank">Recordings On-Demand</a>.</strong></p></body></html>
CLASS:PUBLIC
END:VEVENT
END:VCALENDAR