BEGIN:VCALENDAR
VERSION:2.0
METHOD:PUBLISH
BEGIN:VEVENT
ORGANIZER:MAILTO:
DTSTART:20220922T143000Z
DTEND:20220922T153000Z
LOCATION:https://event.on24.com/wcc/r/3908007/945FF1E3C78CA15A2D27BD3E19F522E0
SUMMARY:Coffee Corner: Plant Design - OpenPlant/PlantSight - Design Review
DESCRIPTION;ENCODING=QUOTED-PRINTABLE:Learn design review features using PlantSight and OpenPlant. Features include: \n \n Visualizer/Data Visualization \n Version Compare \n Clash Detection \n Creating Issues in PlantSight \n Using Issues in OpenPlant
X-ALT-DESC;FMTTYPE=text/html:<html><body><p>Learn design review features using PlantSight and OpenPlant. Features include:</p><ul><li>Visualizer/Data Visualization</li><li>Version Compare</li><li>Clash Detection</li><li>Creating Issues in PlantSight</li><li>Using Issues in OpenPlant</li></ul></body></html>
CLASS:PUBLIC
END:VEVENT
END:VCALENDAR