BEGIN:VCALENDAR
VERSION:2.0
METHOD:PUBLISH
BEGIN:VEVENT
ORGANIZER:MAILTO:
DTSTART:20191210T150000Z
DTEND:20191212T190000Z
LOCATION:Online
SUMMARY:Live Bundle - Model Construction for Piping Designers using OpenPlant Modeler CONNECT Edition (Imperial) CONNECT Edition (Update 6) - English
DESCRIPTION;ENCODING=QUOTED-PRINTABLE:Description \n This course contains exercises to create and modify equipment using OpenPlant Modeler. You will learn to create and place parametric equipment, modify the equipment and place nozzles on the equipment. You will also learn to create custom equipment from MicroStation primitive solids using OpenPlant Modeler. You will learn to create and place the equipment and place nozzles on the equipment. Next, you will complete exercises to teach you best practice methods of routing pipe and also moving piping components from one pipeline to another. Finally, you will learn the best practice methods of modifying pipe after initial placement. \n \n \n Skills Taught \n \n \n Modeling Equipment \n Creating Custom Equipment \n Routing Pipelines \n Modifying Pipelines after Placement \n \n \n \n \n Course Prerequisites \n \n \n QuickStart for Piping Designers using OpenPlant Modeler CONNECT Edition \n \n \n \n \n Course Material Language \n English \n \n \n Accreditations \n Bentley Institute \n \n \n Cost \n Free \n \n \n Instructor \n Michelle Saucier
X-ALT-DESC;FMTTYPE=text/html:<html><body><table class="sum-table" border="0" cellpadding="0" cellspacing="0" width="100%"><tbody><tr valign="top"><td class="row-head2" align="right" valign="top" width="19%"><strong>Description</strong></td><td class="data fistrow" valign="top">This course contains exercises to create and modify equipment using OpenPlant Modeler. You will learn to create and place parametric equipment, modify the equipment and place nozzles on the equipment. You will also learn to create custom equipment from MicroStation primitive solids using OpenPlant Modeler. You will learn to create and place the equipment and place nozzles on the equipment. Next, you will complete exercises to teach you best practice methods of routing pipe and also moving piping components from one pipeline to another. Finally, you will learn the best practice methods of modifying pipe after initial placement.</td></tr><tr valign="top"><td class="row-head2" align="right" valign="top"><strong>Skills Taught</strong></td><td class="data"><ul><li>Modeling Equipment</li><li>Creating Custom Equipment</li><li>Routing Pipelines</li><li>Modifying Pipelines after Placement</li></ul></td></tr><tr valign="top"><td class="row-head2" align="right" width="19%"><strong>Course Prerequisites</strong></td><td class="data"><ul><li>QuickStart for Piping Designers using OpenPlant Modeler CONNECT Edition</li></ul></td></tr><tr valign="top"><td class="row-head2" align="right" width="19%"><strong>Course</strong> <strong>Material</strong> <strong>Language</strong></td><td class="data">English</td></tr><tr valign="top"><td class="row-head2" align="right" width="19%"><strong>Accreditations</strong></td><td class="data lastrow">Bentley Institute</td></tr><tr valign="top"><td class="row-head2" align="right" width="19%"><strong>Cost&nbsp;</strong></td><td class="data lastrow">Free</td></tr><tr valign="top"><td class="row-head2" align="right" width="19%"><strong>Instructor</strong></td><td class="data lastrow">Michelle Saucier</td></tr></tbody></table></body></html>
CLASS:PUBLIC
END:VEVENT
END:VCALENDAR